BEGIN:VCALENDAR
VERSION:2.0
PRODID:-//SFB 1252//Research Data & Methods Workshop Series//EN
CALNAME:SFB 1252 Summer 2026 Draft Workshops
X-WR-CALNAME:SFB 1252 Summer 2026 Draft Workshops
X-WR-TIMEZONE:Europe/Berlin
X-WR-CALDESC:Research Data and Methods Workshop Series - Summer Semester 2026 Draft Schedule

BEGIN:VEVENT
UID:workshop-21-version-control-i@sfb1252.uni-koeln.de
DTSTAMP:20260416T120000Z
DTSTART:20260506T120000Z
DTEND:20260506T133000Z
SUMMARY:Workshop 21: Version Control I
LOCATION:House of Prominence\, Attic (Top floor)\, Luxemburger Str. 299\, Cologne
DESCRIPTION:Getting started with Git\, GitHub\, and gitlab.nrw for research workflows.\n\nHost: TBC\n\nMore info: https://sfb1252.github.io/talks/agenda/summer-2026-draft-schedule/
URL:https://sfb1252.github.io/talks/agenda/summer-2026-draft-schedule/
ORGANIZER;CN=Job Schepens & Luke Günther:mailto:info@sfb1252.uni-koeln.de
STATUS:CONFIRMED
SEQUENCE:0
END:VEVENT

BEGIN:VEVENT
UID:workshop-22-version-control-ii@sfb1252.uni-koeln.de
DTSTAMP:20260416T120000Z
DTSTART:20260520T120000Z
DTEND:20260520T133000Z
SUMMARY:Workshop 22: Version Control II
LOCATION:House of Prominence\, Attic (Top floor)\, Luxemburger Str. 299\, Cologne
DESCRIPTION:Collaboration workflows with GitHub and gitlab.nrw\, including branches\, pull requests\, and merge requests.\n\nHost: TBC\n\nMore info: https://sfb1252.github.io/talks/agenda/summer-2026-draft-schedule/
URL:https://sfb1252.github.io/talks/agenda/summer-2026-draft-schedule/
ORGANIZER;CN=Job Schepens & Luke Günther:mailto:info@sfb1252.uni-koeln.de
STATUS:CONFIRMED
SEQUENCE:0
END:VEVENT

BEGIN:VEVENT
UID:workshop-23-latex-i@sfb1252.uni-koeln.de
DTSTAMP:20260416T120000Z
DTSTART:20260603T120000Z
DTEND:20260603T133000Z
SUMMARY:Workshop 23: LaTeX I
LOCATION:House of Prominence\, Attic (Top floor)\, Luxemburger Str. 299\, Cologne
DESCRIPTION:Getting started with academic writing in LaTeX\, including document structure\, references\, and templates.\n\nHost: TBC\n\nMore info: https://sfb1252.github.io/talks/agenda/summer-2026-draft-schedule/
URL:https://sfb1252.github.io/talks/agenda/summer-2026-draft-schedule/
ORGANIZER;CN=Job Schepens & Luke Günther:mailto:info@sfb1252.uni-koeln.de
STATUS:CONFIRMED
SEQUENCE:0
END:VEVENT

BEGIN:VEVENT
UID:workshop-24-latex-ii@sfb1252.uni-koeln.de
DTSTAMP:20260416T120000Z
DTSTART:20260617T120000Z
DTEND:20260617T133000Z
SUMMARY:Workshop 24: LaTeX II
LOCATION:House of Prominence\, Attic (Top floor)\, Luxemburger Str. 299\, Cologne
DESCRIPTION:Longer documents\, collaboration\, bibliographies\, and thesis workflows in LaTeX.\n\nHost: TBC\n\nMore info: https://sfb1252.github.io/talks/agenda/summer-2026-draft-schedule/
URL:https://sfb1252.github.io/talks/agenda/summer-2026-draft-schedule/
ORGANIZER;CN=Job Schepens & Luke Günther:mailto:info@sfb1252.uni-koeln.de
STATUS:CONFIRMED
SEQUENCE:0
END:VEVENT

BEGIN:VEVENT
UID:workshop-25-licensing@sfb1252.uni-koeln.de
DTSTAMP:20260416T120000Z
DTSTART:20260715T120000Z
DTEND:20260715T133000Z
SUMMARY:Workshop 25: Licensing of Published Datasets and Scripts
LOCATION:House of Prominence\, Attic (Top floor)\, Luxemburger Str. 299\, Cologne
DESCRIPTION:Licensing options for datasets\, code\, and teaching materials\, with practical guidance for open research workflows.\n\nHost: TBC\n\nMore info: https://sfb1252.github.io/talks/agenda/summer-2026-draft-schedule/
URL:https://sfb1252.github.io/talks/agenda/summer-2026-draft-schedule/
ORGANIZER;CN=Job Schepens & Luke Günther:mailto:info@sfb1252.uni-koeln.de
STATUS:CONFIRMED
SEQUENCE:0
END:VEVENT

END:VCALENDAR
